BEGIN:VCALENDAR
VERSION:2.0
PRODID:-//BUGA Förderverein - ECPv6.15.20//NONSGML v1.0//EN
CALSCALE:GREGORIAN
METHOD:PUBLISH
X-ORIGINAL-URL:https://www.buga2007.de
X-WR-CALDESC:Veranstaltungen für BUGA Förderverein
REFRESH-INTERVAL;VALUE=DURATION:PT1H
X-Robots-Tag:noindex
X-PUBLISHED-TTL:PT1H
BEGIN:VTIMEZONE
TZID:Europe/Berlin
BEGIN:DAYLIGHT
TZOFFSETFROM:+0100
TZOFFSETTO:+0200
TZNAME:CEST
DTSTART:20250330T010000
END:DAYLIGHT
BEGIN:STANDARD
TZOFFSETFROM:+0200
TZOFFSETTO:+0100
TZNAME:CET
DTSTART:20251026T010000
END:STANDARD
BEGIN:DAYLIGHT
TZOFFSETFROM:+0100
TZOFFSETTO:+0200
TZNAME:CEST
DTSTART:20260329T010000
END:DAYLIGHT
BEGIN:STANDARD
TZOFFSETFROM:+0200
TZOFFSETTO:+0100
TZNAME:CET
DTSTART:20261025T010000
END:STANDARD
BEGIN:DAYLIGHT
TZOFFSETFROM:+0100
TZOFFSETTO:+0200
TZNAME:CEST
DTSTART:20270328T010000
END:DAYLIGHT
BEGIN:STANDARD
TZOFFSETFROM:+0200
TZOFFSETTO:+0100
TZNAME:CET
DTSTART:20271031T010000
END:STANDARD
END:VTIMEZONE
BEGIN:VEVENT
DTSTART;TZID=Europe/Berlin:20260305T080000
DTEND;TZID=Europe/Berlin:20260331T170000
DTSTAMP:20260421T185045
CREATED:20260305T111405Z
LAST-MODIFIED:20260323T182324Z
UID:2903-1772697600-1774976400@www.buga2007.de
SUMMARY:Gera sucht neue Lichterfee
DESCRIPTION:Der Buga-Förderverein und die Stadt Gera suchen für 2026 eine neue Geraer Lichterfee. Bewirb dich\, wenn du Lust hast\, bezaubern kannst und den Umgang mit kleinen Gästen liebst! \n  \n  \n  \nBitte beantworte die fünf Feen-Fragen: \n\nWer bist du?\nWarum bist genau DU die richtige Besetzung als Lichterfee 2026?\nWas ist dein persönliches Highlight auf dem Hofwiesenparkfest?\n„Bist du eine echte Fee“ – Deine Antwort?\nWie gehst du mit Trubel um?\n\nWir freuen uns auf deine Antworten bis zum 31. März 2026 an lichterfee@buga2007.de \nDas Team vom Buga Förderverein \nGera sucht eine neue Lichterfee für den                             Buga-Förderverein und die Stadt
URL:https://www.buga2007.de/event/gera-sucht-neue-lichterfee/
LOCATION:Hofwiesenpark\, Hofwiesenpark\, Hofwiesenpark Gera\, Thüringen
ATTACH;FMTTYPE=image/jpeg:https://www.buga2007.de/wp-content/uploads/2025/05/DSC0660-scaled.jpg
END:VEVENT
BEGIN:VEVENT
DTSTART;VALUE=DATE:20260323
DTEND;VALUE=DATE:20260324
DTSTAMP:20260421T185045
CREATED:20251216T131328Z
LAST-MODIFIED:20260305T110345Z
UID:2677-1774224000-1774310399@www.buga2007.de
SUMMARY:Kooperation Naturlehrpfad Süd im Gessental
DESCRIPTION:  \nDer Buga-Förderverein e. V. initiiert ein Kooperationsprojekt zur Sicherung des Naturerbes am Naturlehrpfad Süd. Die etwa 60 mit Hand bemalten Nisthäuschen entlang des Weges benötigen dringend Sanierung oder Ersatz. Die Umsetzung erfolgt in einer starken Partnerschaft. \nDie Jugendlichen vom Christlichen Jugenddorf (CJD) übernehmen die Sanierungs- und Neubaumaßnahmen\, was ihnen eine wertvolle praktische und kreative Betätigung ermöglicht. Der Buga-Förderverein stellt die Materialien wie Holz und Farben bereit. \nDer Naturschutzbund (NABU Ostthüringen) begleitet das Projekt fachlich\, um sicherzustellen\, dass die neuen Nisthilfen optimal auf die Bedürfnisse der lokalen Vogelarten abgestimmt sind.\nMit dieser Initiative fördern wir nicht nur den Naturschutz\, sondern leiten auch neue\, nachhaltige Projekte für die Region ein. \nDie erste Etappe – die Übergabe von 10 neuen Nisthäuschen  – erfolgt\nam 23. März um 10 Uhr an der Collismühle\ndurch das CSD\, dem Ortsteilbürgermeister Matthias Dietzel und dem Buga-Förderverein. \n 
URL:https://www.buga2007.de/event/kooperation-naturlehrpfad-sued-im-gessental/
ATTACH;FMTTYPE=image/jpeg:https://www.buga2007.de/wp-content/uploads/2025/12/93611_4_1-Nistkasten.jpg
END:VEVENT
END:VCALENDAR