BEGIN:VCALENDAR
VERSION:2.0
PRODID:-//BUGA Förderverein - ECPv6.15.20//NONSGML v1.0//EN
CALSCALE:GREGORIAN
METHOD:PUBLISH
X-WR-CALNAME:BUGA Förderverein
X-ORIGINAL-URL:https://www.buga2007.de
X-WR-CALDESC:Veranstaltungen für BUGA Förderverein
REFRESH-INTERVAL;VALUE=DURATION:PT1H
X-Robots-Tag:noindex
X-PUBLISHED-TTL:PT1H
BEGIN:VTIMEZONE
TZID:Europe/Berlin
BEGIN:DAYLIGHT
TZOFFSETFROM:+0100
TZOFFSETTO:+0200
TZNAME:CEST
DTSTART:20240331T010000
END:DAYLIGHT
BEGIN:STANDARD
TZOFFSETFROM:+0200
TZOFFSETTO:+0100
TZNAME:CET
DTSTART:20241027T010000
END:STANDARD
BEGIN:DAYLIGHT
TZOFFSETFROM:+0100
TZOFFSETTO:+0200
TZNAME:CEST
DTSTART:20250330T010000
END:DAYLIGHT
BEGIN:STANDARD
TZOFFSETFROM:+0200
TZOFFSETTO:+0100
TZNAME:CET
DTSTART:20251026T010000
END:STANDARD
BEGIN:DAYLIGHT
TZOFFSETFROM:+0100
TZOFFSETTO:+0200
TZNAME:CEST
DTSTART:20260329T010000
END:DAYLIGHT
BEGIN:STANDARD
TZOFFSETFROM:+0200
TZOFFSETTO:+0100
TZNAME:CET
DTSTART:20261025T010000
END:STANDARD
END:VTIMEZONE
BEGIN:VEVENT
DTSTART;TZID=Europe/Berlin:20250503T130000
DTEND;TZID=Europe/Berlin:20250503T230000
DTSTAMP:20260422T085331
CREATED:20250429T141725Z
LAST-MODIFIED:20250429T142056Z
UID:1984-1746277200-1746313200@www.buga2007.de
SUMMARY:Lichternacht zum Hofwiesenparkfest
DESCRIPTION:Als Erinnerung an die Eröffnung der Bundesgartenschau 2007 ist mit dem Hochwiesenparkfest in Gera eine Tradition entstanden. In den letzten Jahren gehört die Lichternacht des Buga-Fördervereins als fester Bestandteil zur Eröffnung der Parksaison in Geras größten und schönsten Park. \n\n\n\n\n\nFür den Verein bedeutet das jedes Mal eine ehrenamtliche Höchstleistung. In Schulen\, Kindergärten oder öffentlichen Terminen haben junge und ältere Künstler die Gläser bunt gemalt und zu mehreren Anlässen\, wie etwa dem Tag der Vereine\, kommen neue hinzu. Bereits am Vormittag der Lichternacht schmücken viele fleißige Helfer die Wiesen rund um das Veranstaltungsoval mit Gläsern und Teelichten. Am Abend heißt\, die Kerzen anzuzünden und damit die Wiesen zum Leuchten zu bringen. Oft helfen auch die Besucherinnen und Besucher dabei. Doch damit ist die Arbeit nicht vorbei. Am Tag danach müssen alle Gläser und die abgebrannten Kerzen aufgesammelt werden. Mit Unterstützung der Menschen von der Lebenshilfe\, schaffen es viele Helfer\, die Schönheit des Parks wieder herzustellen. \n\n\n\nLichterfee Anna zum ersten Mal im Glanz der Lichter \n\n\n\n\n\n\n\nDer Buga-Förderverein kann in diesem Jahr eine neue Lichterfee präsentieren. Sie heißt Anna\, kommt aus der Nähe von Gera und freut sich schon riesig auf ihre neue Rolle als Lichterfee. Anna Theilig ist 23 Jahre jung\, hat Sozialpädagogik studiert und arbeite im Sozialamt der Stadt als Fallbetreuerin. Sie bringt Erfahrungen als Elfe mit\, denn zusammen mit der Hexe laden beide zur Eröffnung und zum Abschluss der Märchenwaldsaison in Wünschendorf ein. „Im bin Mitglied im Seelingstädter Carnevals Club und schlüpfe gern in eine andere Rolle\, um damit eine Geschichte zu erzählen und die Emotionen erlebbar machen. Das war auch ein wichtiger Grund\, mich als Lichterfee zu bewerben“\, berichtet Anna. „Ich freue mich schon sehr darauf\, die Leute zum Strahlen und die Kinderaugen zum Leuchten zu bringen“. Anna ist schon gespannt auf die vielen Kinder\, die sie als Fee bewundern werden. Sie freut sich auf Gespräche und steht gern für Fotos bereit. Gemeinsam mit Oberbürgermeister Kurt Dannenberg und den zweiten Vorsitzenden des Vereins\, Roberto Tamaske\, eröffnet die Anna die Lichternacht auf der Hofwiesenparkbühne und lädt zum Lampionumzug durch den illuminierten Hofwiesenpark ein. \n\n\n\nSobald die Sonne endgültig untergangen ist\, entfaltet sich das viel bewunderte Lichterspiel auf den Wiesen und Wegen. Die Kerzen brennen mehrere Stunden und selbst zu Mitternacht sind die meisten Lichterfiguren noch auszumachen.
URL:https://www.buga2007.de/event/lichternacht-zum-hofwiesenparkfest/
ATTACH;FMTTYPE=image/jpeg:https://www.buga2007.de/wp-content/uploads/2025/04/DSC2104-scaled.jpg
END:VEVENT
BEGIN:VEVENT
DTSTART;TZID=Europe/Berlin:20250519T160000
DTEND;TZID=Europe/Berlin:20250519T170000
DTSTAMP:20260422T085331
CREATED:20250506T154216Z
LAST-MODIFIED:20250507T093752Z
UID:2012-1747670400-1747674000@www.buga2007.de
SUMMARY:Einweihung Infotafel Seydel-Eisel-Stein
DESCRIPTION:Der BUGA Förderverein hat eine sehr anschauliche Informationstafel am Seydel-Eisel-Stein geschaffen. Damit sollen Wanderer auf dem Naturlehrpfad Gera-Süd über zwei bedeutende Naturforscher und über das Gessental aufgeklärt werden. Am 19.5.2025 weiht der BUGA Förderverein diese Tafel ein und übergibt sie zur weiteren Pflege an die Stadt Gera. \nhttps://www.buga2007.de/wp-content/uploads/2025/04/Sequenz-01.mp4
URL:https://www.buga2007.de/event/einweihung-infotafel-seydel-eisel-stein/
LOCATION:Seydel-Eisel-Stein (Naturlehrpfad Station 18)\, 07545
END:VEVENT
END:VCALENDAR