BEGIN:VCALENDAR
VERSION:2.0
PRODID:-//BUGA Förderverein - ECPv6.15.20//NONSGML v1.0//EN
CALSCALE:GREGORIAN
METHOD:PUBLISH
X-ORIGINAL-URL:https://www.buga2007.de
X-WR-CALDESC:Veranstaltungen für BUGA Förderverein
REFRESH-INTERVAL;VALUE=DURATION:PT1H
X-Robots-Tag:noindex
X-PUBLISHED-TTL:PT1H
BEGIN:VTIMEZONE
TZID:Europe/Berlin
BEGIN:DAYLIGHT
TZOFFSETFROM:+0100
TZOFFSETTO:+0200
TZNAME:CEST
DTSTART:20250330T010000
END:DAYLIGHT
BEGIN:STANDARD
TZOFFSETFROM:+0200
TZOFFSETTO:+0100
TZNAME:CET
DTSTART:20251026T010000
END:STANDARD
BEGIN:DAYLIGHT
TZOFFSETFROM:+0100
TZOFFSETTO:+0200
TZNAME:CEST
DTSTART:20260329T010000
END:DAYLIGHT
BEGIN:STANDARD
TZOFFSETFROM:+0200
TZOFFSETTO:+0100
TZNAME:CET
DTSTART:20261025T010000
END:STANDARD
BEGIN:DAYLIGHT
TZOFFSETFROM:+0100
TZOFFSETTO:+0200
TZNAME:CEST
DTSTART:20270328T010000
END:DAYLIGHT
BEGIN:STANDARD
TZOFFSETFROM:+0200
TZOFFSETTO:+0100
TZNAME:CET
DTSTART:20271031T010000
END:STANDARD
END:VTIMEZONE
BEGIN:VEVENT
DTSTART;TZID=Europe/Berlin:20260418T090000
DTEND;TZID=Europe/Berlin:20260418T120000
DTSTAMP:20260421T184949
CREATED:20260402T081105Z
LAST-MODIFIED:20260402T082934Z
UID:2930-1776502800-1776513600@www.buga2007.de
SUMMARY:Frühjahrsputz Schlossgarten
DESCRIPTION:Am 18. 4. 2026 von 9 bis 12 Uhr möchten wir den Schlossgarten aus dem Winterschlaf holen und ihn für die kommende Schlossgartensaison vorbereiten. Dafür suchen wir fleißige Unterstützer. Rosen\, Sommerflieder\, Felsenbirne\, Bodendecker und verschiedene Laubbäume beherbergt die grüne Oase über der Stadt. Die Rosen und Gehölze müssen verschnitten werden\, das Unkraut von den Beeten muss verschwinden\, Hecken und Rasenkanten müssen beschnitten und der Rasen gemäht werden. Kommen Sie gern mit Gartengeräten zum Helfen\, damit das barocke Kleinod auch in dieser Saison Besucher\, Wanderer und alle Menschen aus Gera empfangen kann. Wir freuen uns auf Sie! \nFoto: Wolfgang Hesse
URL:https://www.buga2007.de/event/2930/
ATTACH;FMTTYPE=image/jpeg:https://www.buga2007.de/wp-content/uploads/2026/04/DSC6684-scaled.jpg
END:VEVENT
END:VCALENDAR