BEGIN:VCALENDAR
VERSION:2.0
PRODID:-//BUGA Förderverein - ECPv6.15.20//NONSGML v1.0//EN
CALSCALE:GREGORIAN
METHOD:PUBLISH
X-ORIGINAL-URL:https://www.buga2007.de
X-WR-CALDESC:Veranstaltungen für BUGA Förderverein
REFRESH-INTERVAL;VALUE=DURATION:PT1H
X-Robots-Tag:noindex
X-PUBLISHED-TTL:PT1H
BEGIN:VTIMEZONE
TZID:Europe/Berlin
BEGIN:DAYLIGHT
TZOFFSETFROM:+0100
TZOFFSETTO:+0200
TZNAME:CEST
DTSTART:20240331T010000
END:DAYLIGHT
BEGIN:STANDARD
TZOFFSETFROM:+0200
TZOFFSETTO:+0100
TZNAME:CET
DTSTART:20241027T010000
END:STANDARD
BEGIN:DAYLIGHT
TZOFFSETFROM:+0100
TZOFFSETTO:+0200
TZNAME:CEST
DTSTART:20250330T010000
END:DAYLIGHT
BEGIN:STANDARD
TZOFFSETFROM:+0200
TZOFFSETTO:+0100
TZNAME:CET
DTSTART:20251026T010000
END:STANDARD
BEGIN:DAYLIGHT
TZOFFSETFROM:+0100
TZOFFSETTO:+0200
TZNAME:CEST
DTSTART:20260329T010000
END:DAYLIGHT
BEGIN:STANDARD
TZOFFSETFROM:+0200
TZOFFSETTO:+0100
TZNAME:CET
DTSTART:20261025T010000
END:STANDARD
END:VTIMEZONE
BEGIN:VEVENT
DTSTART;TZID=Europe/Berlin:20251206T110000
DTEND;TZID=Europe/Berlin:20251207T180000
DTSTAMP:20260422T002436
CREATED:20250916T123935Z
LAST-MODIFIED:20251111T174035Z
UID:2522-1765018800-1765130400@www.buga2007.de
SUMMARY:Adventsmarkt im Hofgut am 2. Adventswochenende
DESCRIPTION:Am 6. und 7. Dezember 2025 lädt der BUGA Förderverein herzlich zum traditionellen Adventsmarkt im Hofgut ein. An diesem 2. Adventswochenende erwartet die Besucher eine stimmungsvolle Atmosphäre mit über 30 Ausstellern\, die eine Vielzahl an handgefertigten Produkten und kulinarischen Köstlichkeiten anbieten. Der etwas andere Weihnachtsmarkt wurde im Rahmen der Buga 2007 durch den Verein ins Leben gerufen und erfreut sich seitdem wachsender Beliebtheit in Gera und strahlt mit seinem besonderen Flair auch über die Stadtgrenzen hinaus. Bei entspannter Atmosphäre erwarten die Aussteller mit Produkten aus eigener Produktion die Gäste. Keramik\, Weihnachtsdekoration\, Backformen\, Floristik\, Honig\, Hausmacherwurst und so manches Geschenk werden angeboten. Der Adventsmarkt im Hofgut hat sich in den vergangenen Jahren zu einem beliebten Treffpunkt für Jung und Alt entwickelt. Drei rustikale Scheunen mit Holzfachwerk\, Tannengrün und festlichen Leuchten geben dem Hofgut eine besondere Atmosphäre\, vorbereitet von den Mitgliedern des Buga-Fördervereins und fleißigen Helfern. An beiden Tagen überrascht der Nikolaus die Kinder mit kleinen Geschenken. Eine Gans aus biologischer Tierhaltung ist der Hauptpreis eines Schätzspieles für Jung und Alt. Auch in diesem Jahr dürfen sich die Gäste auf ein abwechslungsreiches Kulturprogramm auf der Hofgutbühne freuen\, das von weihnachtlicher Musik bis hin zu Darbietungen von Kindern\, Geraer Musikern und Chören reicht. Für das leibliche Wohl ist ebenfalls bestens gesorgt: Von herzhaften Speisen bis zu süßen Leckereien ist für jeden Geschmack etwas dabei. „Wir freuen uns\, auch in diesem Jahr wieder zahlreiche Besucher auf unserem Adventsmarkt begrüßen zu dürfen“\, so der Vorsitzende des BUGA Fördervereins. „Der Markt bietet eine wunderbare Gelegenheit\, sich auf die Weihnachtszeit einzustimmen und gleichzeitig regionale Produkte und Kunsthandwerk zu entdecken.“ Für das weihnachtliche Ambiente sorgen wieder 20 Ehrenamtliche des Vereins\, die die Besucher am Glühweinstand und beim Ratespiel begrüßen. Auch prominente Gäste\, wie Oberbürgermeister Kurt Dannenberg und Peter Carqueville unterstützen uns am Glühweinstand.\nSagen Sie es weiter\, diese besondere Atmosphäre gibt es nur beim Adventsmarkt. \nDer Adventsmarkt im Hofgut ist am Samstag\, den 6. Dezember\, und am Sonntag\, den 7. Dezember\, jeweils von 11:00 bis 18:00 Uhr geöffnet. Der Eintritt ist frei. \nFür weitere Informationen und Rückfragen steht Ihnen der BUGA Förderverein gerne zur Verfügung. \nRückblick auf den Adventsmarkt 2024 im Hofgut Gera-Untermhaus \n                  \n 
URL:https://www.buga2007.de/event/adventsmarkt-im-hofgut-am-2-adventswochenende/
ATTACH;FMTTYPE=image/gif:https://www.buga2007.de/wp-content/uploads/2025/11/Design-ohne-Titel-Kopie.gif
END:VEVENT
END:VCALENDAR