BEGIN:VCALENDAR
VERSION:2.0
PRODID:-//BUGA Förderverein - ECPv6.15.20//NONSGML v1.0//EN
CALSCALE:GREGORIAN
METHOD:PUBLISH
X-ORIGINAL-URL:https://www.buga2007.de
X-WR-CALDESC:Veranstaltungen für BUGA Förderverein
REFRESH-INTERVAL;VALUE=DURATION:PT1H
X-Robots-Tag:noindex
X-PUBLISHED-TTL:PT1H
BEGIN:VTIMEZONE
TZID:Europe/Berlin
BEGIN:DAYLIGHT
TZOFFSETFROM:+0100
TZOFFSETTO:+0200
TZNAME:CEST
DTSTART:20240331T010000
END:DAYLIGHT
BEGIN:STANDARD
TZOFFSETFROM:+0200
TZOFFSETTO:+0100
TZNAME:CET
DTSTART:20241027T010000
END:STANDARD
BEGIN:DAYLIGHT
TZOFFSETFROM:+0100
TZOFFSETTO:+0200
TZNAME:CEST
DTSTART:20250330T010000
END:DAYLIGHT
BEGIN:STANDARD
TZOFFSETFROM:+0200
TZOFFSETTO:+0100
TZNAME:CET
DTSTART:20251026T010000
END:STANDARD
BEGIN:DAYLIGHT
TZOFFSETFROM:+0100
TZOFFSETTO:+0200
TZNAME:CEST
DTSTART:20260329T010000
END:DAYLIGHT
BEGIN:STANDARD
TZOFFSETFROM:+0200
TZOFFSETTO:+0100
TZNAME:CET
DTSTART:20261025T010000
END:STANDARD
END:VTIMEZONE
BEGIN:VEVENT
DTSTART;TZID=Europe/Berlin:20250628T150000
DTEND;TZID=Europe/Berlin:20250628T170000
DTSTAMP:20260422T085402
CREATED:20250620T111356Z
LAST-MODIFIED:20250620T113847Z
UID:2139-1751122800-1751130000@www.buga2007.de
SUMMARY:Schlossgartenkonzert mit Ensemble Carmina e.V.  Bad Köstritz
DESCRIPTION:Der Chor aus Bad Köstritz begeisterte die letzten beiden Jahre bereits im Schlossgarten. \nBei Regen finden die Konzerte in der Marienkirche statt.\nEin Shuttle Service vom Mohrenplatz zum Konzert wird angeboten.
URL:https://www.buga2007.de/event/2139/
LOCATION:Schlossgarten Osterstein
END:VEVENT
END:VCALENDAR