BEGIN:VCALENDAR
VERSION:2.0
PRODID:-//BUGA Förderverein - ECPv6.15.20//NONSGML v1.0//EN
CALSCALE:GREGORIAN
METHOD:PUBLISH
X-WR-CALNAME:BUGA Förderverein
X-ORIGINAL-URL:https://www.buga2007.de
X-WR-CALDESC:Veranstaltungen für BUGA Förderverein
REFRESH-INTERVAL;VALUE=DURATION:PT1H
X-Robots-Tag:noindex
X-PUBLISHED-TTL:PT1H
BEGIN:VTIMEZONE
TZID:Europe/Berlin
BEGIN:DAYLIGHT
TZOFFSETFROM:+0100
TZOFFSETTO:+0200
TZNAME:CEST
DTSTART:20240331T010000
END:DAYLIGHT
BEGIN:STANDARD
TZOFFSETFROM:+0200
TZOFFSETTO:+0100
TZNAME:CET
DTSTART:20241027T010000
END:STANDARD
BEGIN:DAYLIGHT
TZOFFSETFROM:+0100
TZOFFSETTO:+0200
TZNAME:CEST
DTSTART:20250330T010000
END:DAYLIGHT
BEGIN:STANDARD
TZOFFSETFROM:+0200
TZOFFSETTO:+0100
TZNAME:CET
DTSTART:20251026T010000
END:STANDARD
BEGIN:DAYLIGHT
TZOFFSETFROM:+0100
TZOFFSETTO:+0200
TZNAME:CEST
DTSTART:20260329T010000
END:DAYLIGHT
BEGIN:STANDARD
TZOFFSETFROM:+0200
TZOFFSETTO:+0100
TZNAME:CET
DTSTART:20261025T010000
END:STANDARD
END:VTIMEZONE
BEGIN:VEVENT
DTSTART;TZID=Europe/Berlin:20250620T150000
DTEND;TZID=Europe/Berlin:20250620T170000
DTSTAMP:20260422T085225
CREATED:20250618T160323Z
LAST-MODIFIED:20250618T161229Z
UID:2127-1750431600-1750438800@www.buga2007.de
SUMMARY:Führung auf Schloss Osterstein
DESCRIPTION:Rundgang am Schloss Osterstein am 20.06.2025 ab 15 Uhr.\nWir treffen uns 15 Uhr am kleinen Parkplatz auf Schloss Osterstein.  Im Fokus steht die Entstehung des Wohnquartiers im Schloss und die Ausgrabungen\, die während der Sanierung freigelegt wurden.
URL:https://www.buga2007.de/event/fuehrung-auf-schloss-osterstein/
LOCATION:Schloss Osterstein kleiner Parkplatz
END:VEVENT
END:VCALENDAR