BEGIN:VCALENDAR
VERSION:2.0
PRODID:-//BUGA Förderverein - ECPv6.15.20//NONSGML v1.0//EN
CALSCALE:GREGORIAN
METHOD:PUBLISH
X-WR-CALNAME:BUGA Förderverein
X-ORIGINAL-URL:https://www.buga2007.de
X-WR-CALDESC:Veranstaltungen für BUGA Förderverein
REFRESH-INTERVAL;VALUE=DURATION:PT1H
X-Robots-Tag:noindex
X-PUBLISHED-TTL:PT1H
BEGIN:VTIMEZONE
TZID:Europe/Berlin
BEGIN:DAYLIGHT
TZOFFSETFROM:+0100
TZOFFSETTO:+0200
TZNAME:CEST
DTSTART:20240331T010000
END:DAYLIGHT
BEGIN:STANDARD
TZOFFSETFROM:+0200
TZOFFSETTO:+0100
TZNAME:CET
DTSTART:20241027T010000
END:STANDARD
BEGIN:DAYLIGHT
TZOFFSETFROM:+0100
TZOFFSETTO:+0200
TZNAME:CEST
DTSTART:20250330T010000
END:DAYLIGHT
BEGIN:STANDARD
TZOFFSETFROM:+0200
TZOFFSETTO:+0100
TZNAME:CET
DTSTART:20251026T010000
END:STANDARD
BEGIN:DAYLIGHT
TZOFFSETFROM:+0100
TZOFFSETTO:+0200
TZNAME:CEST
DTSTART:20260329T010000
END:DAYLIGHT
BEGIN:STANDARD
TZOFFSETFROM:+0200
TZOFFSETTO:+0100
TZNAME:CET
DTSTART:20261025T010000
END:STANDARD
END:VTIMEZONE
BEGIN:VEVENT
DTSTART;TZID=Europe/Berlin:20250405T140000
DTEND;TZID=Europe/Berlin:20250405T140000
DTSTAMP:20260422T114644
CREATED:20250326T135427Z
LAST-MODIFIED:20250326T135434Z
UID:1825-1743861600-1743861600@www.buga2007.de
SUMMARY:Frühling in der Neuen Landschaft Ronneburg
DESCRIPTION:Am 5. April 2025 um 14:00 Uhr laden wir Sie herzlich zu einer Frühjahrs-Führung im Arboretum Ronneburg ein! Die Veranstaltung\, organisiert vom BUGA-Förderverein\, wird von einem Vertreter der Geraer Baumfreunde begleitet. \n \n \nTreffpunkt der Wanderung ist der Parkplatz in der Grobsdorfer Str. (Nähe Drachenschwanzbrücke) \n \n \nAlle BUGA-Freunde und Vereinsmitglieder sind herzlich willkommen\, und wir freuen uns\, wenn Sie auch Ihre Kinder und Enkelkinder mitbringen! Es gibt so viel Spannendes und Lehrreiches über die Geschichten der Bäume zu entdecken. \n \n \nWir freuen uns auf Sie und Ihre ganze Familie!
URL:https://www.buga2007.de/event/fruehling-in-der-neuen-landschaft-ronneburg/
ATTACH;FMTTYPE=image/jpeg:https://www.buga2007.de/wp-content/uploads/2025/03/IMG_3175.jpeg
END:VEVENT
END:VCALENDAR