BEGIN:VCALENDAR
VERSION:2.0
PRODID:-//BUGA Förderverein - ECPv6.15.20//NONSGML v1.0//EN
CALSCALE:GREGORIAN
METHOD:PUBLISH
X-WR-CALNAME:BUGA Förderverein
X-ORIGINAL-URL:https://www.buga2007.de
X-WR-CALDESC:Veranstaltungen für BUGA Förderverein
REFRESH-INTERVAL;VALUE=DURATION:PT1H
X-Robots-Tag:noindex
X-PUBLISHED-TTL:PT1H
BEGIN:VTIMEZONE
TZID:Europe/Berlin
BEGIN:DAYLIGHT
TZOFFSETFROM:+0100
TZOFFSETTO:+0200
TZNAME:CEST
DTSTART:20230326T010000
END:DAYLIGHT
BEGIN:STANDARD
TZOFFSETFROM:+0200
TZOFFSETTO:+0100
TZNAME:CET
DTSTART:20231029T010000
END:STANDARD
BEGIN:DAYLIGHT
TZOFFSETFROM:+0100
TZOFFSETTO:+0200
TZNAME:CEST
DTSTART:20240331T010000
END:DAYLIGHT
BEGIN:STANDARD
TZOFFSETFROM:+0200
TZOFFSETTO:+0100
TZNAME:CET
DTSTART:20241027T010000
END:STANDARD
BEGIN:DAYLIGHT
TZOFFSETFROM:+0100
TZOFFSETTO:+0200
TZNAME:CEST
DTSTART:20250330T010000
END:DAYLIGHT
BEGIN:STANDARD
TZOFFSETFROM:+0200
TZOFFSETTO:+0100
TZNAME:CET
DTSTART:20251026T010000
END:STANDARD
END:VTIMEZONE
BEGIN:VEVENT
DTSTART;TZID=Europe/Berlin:20241008T140000
DTEND;TZID=Europe/Berlin:20241008T160000
DTSTAMP:20260422T200134
CREATED:20240710T143056Z
LAST-MODIFIED:20241004T145358Z
UID:584-1728396000-1728403200@www.buga2007.de
SUMMARY:Einweihung Informationstafel am Hügelgrab
DESCRIPTION:Der BUGA Förderverein hat eine sehr anschauliche Informationstafel am Hügelgrab geschaffen. Damit sollen die Wanderer über die Geschichte unserer Vorfahren aufgeklärt werden. Am 8.10.2024 weiht der BUGA Förderverein diese Tafel ein und übergibt sie zur weiteren Pflege an die Stadt Gera.\n\nOrt des Hügelgrabes: Google Code: V469+G2 Gera\n\n 
URL:https://www.buga2007.de/event/einweihung-informationstafel-am-huegelgrab/
LOCATION:Schutzhütte am Hügelgrab\, Gera\, 07551
ATTACH;FMTTYPE=image/jpeg:https://www.buga2007.de/wp-content/uploads/2024/07/IMG_1684-scaled.jpg
END:VEVENT
END:VCALENDAR